BEGIN:VCALENDAR
VERSION:2.0
PRODID:-//Pacific Springs Homeowners Association - ECPv6.15.20//NONSGML v1.0//EN
CALSCALE:GREGORIAN
METHOD:PUBLISH
X-ORIGINAL-URL:https://pacificspringshoa.org
X-WR-CALDESC:Events for Pacific Springs Homeowners Association
REFRESH-INTERVAL;VALUE=DURATION:PT1H
X-Robots-Tag:noindex
X-PUBLISHED-TTL:PT1H
BEGIN:VTIMEZONE
TZID:America/Chicago
BEGIN:DAYLIGHT
TZOFFSETFROM:-0600
TZOFFSETTO:-0500
TZNAME:CDT
DTSTART:20240310T080000
END:DAYLIGHT
BEGIN:STANDARD
TZOFFSETFROM:-0500
TZOFFSETTO:-0600
TZNAME:CST
DTSTART:20241103T070000
END:STANDARD
BEGIN:DAYLIGHT
TZOFFSETFROM:-0600
TZOFFSETTO:-0500
TZNAME:CDT
DTSTART:20250309T080000
END:DAYLIGHT
BEGIN:STANDARD
TZOFFSETFROM:-0500
TZOFFSETTO:-0600
TZNAME:CST
DTSTART:20251102T070000
END:STANDARD
BEGIN:DAYLIGHT
TZOFFSETFROM:-0600
TZOFFSETTO:-0500
TZNAME:CDT
DTSTART:20260308T080000
END:DAYLIGHT
BEGIN:STANDARD
TZOFFSETFROM:-0500
TZOFFSETTO:-0600
TZNAME:CST
DTSTART:20261101T070000
END:STANDARD
END:VTIMEZONE
BEGIN:VEVENT
DTSTART;TZID=America/Chicago:20250907T173000
DTEND;TZID=America/Chicago:20250907T193000
DTSTAMP:20260423T181921
CREATED:20250619T142055Z
LAST-MODIFIED:20250619T142055Z
UID:3144-1757266200-1757273400@pacificspringshoa.org
SUMMARY:2025 HOA Neighborhood Picnic
DESCRIPTION:Please join us for a Neighborhood Picnic.  Sunday\, September 7th from 5:30 – 7:30. \nPacific Springs Park Picnic Area / 1024 S 174th Street \nPacific Springs HOA 402-672-0233
URL:https://pacificspringshoa.org/event/2025-hoa-neighborhood-picnic/
LOCATION:Pacific Springs Park\, 1024 S 174th Street\, Omaha\, NE\, 68118\, United States
END:VEVENT
END:VCALENDAR