BEGIN:VCALENDAR
VERSION:2.0
PRODID:-//Pacific Springs Homeowners Association - ECPv6.15.20//NONSGML v1.0//EN
CALSCALE:GREGORIAN
METHOD:PUBLISH
X-WR-CALNAME:Pacific Springs Homeowners Association
X-ORIGINAL-URL:https://pacificspringshoa.org
X-WR-CALDESC:Events for Pacific Springs Homeowners Association
REFRESH-INTERVAL;VALUE=DURATION:PT1H
X-Robots-Tag:noindex
X-PUBLISHED-TTL:PT1H
BEGIN:VTIMEZONE
TZID:America/Chicago
BEGIN:DAYLIGHT
TZOFFSETFROM:-0600
TZOFFSETTO:-0500
TZNAME:CDT
DTSTART:20230312T080000
END:DAYLIGHT
BEGIN:STANDARD
TZOFFSETFROM:-0500
TZOFFSETTO:-0600
TZNAME:CST
DTSTART:20231105T070000
END:STANDARD
BEGIN:DAYLIGHT
TZOFFSETFROM:-0600
TZOFFSETTO:-0500
TZNAME:CDT
DTSTART:20240310T080000
END:DAYLIGHT
BEGIN:STANDARD
TZOFFSETFROM:-0500
TZOFFSETTO:-0600
TZNAME:CST
DTSTART:20241103T070000
END:STANDARD
BEGIN:DAYLIGHT
TZOFFSETFROM:-0600
TZOFFSETTO:-0500
TZNAME:CDT
DTSTART:20250309T080000
END:DAYLIGHT
BEGIN:STANDARD
TZOFFSETFROM:-0500
TZOFFSETTO:-0600
TZNAME:CST
DTSTART:20251102T070000
END:STANDARD
BEGIN:DAYLIGHT
TZOFFSETFROM:-0600
TZOFFSETTO:-0500
TZNAME:CDT
DTSTART:20260308T080000
END:DAYLIGHT
BEGIN:STANDARD
TZOFFSETFROM:-0500
TZOFFSETTO:-0600
TZNAME:CST
DTSTART:20261101T070000
END:STANDARD
BEGIN:DAYLIGHT
TZOFFSETFROM:-0600
TZOFFSETTO:-0500
TZNAME:CDT
DTSTART:20270314T080000
END:DAYLIGHT
BEGIN:STANDARD
TZOFFSETFROM:-0500
TZOFFSETTO:-0600
TZNAME:CST
DTSTART:20271107T070000
END:STANDARD
END:VTIMEZONE
BEGIN:VEVENT
DTSTART;TZID=America/Chicago:20260425T150000
DTEND;TZID=America/Chicago:20260425T170000
DTSTAMP:20260423T150510
CREATED:20260420T224351Z
LAST-MODIFIED:20260420T224351Z
UID:4694-1777129200-1777136400@pacificspringshoa.org
SUMMARY:2026 Pacific Springs Wine Tasting
DESCRIPTION:Pacific Springs Wine Tasting \nSaturday\, April 25\, 2026 @ 3:00 – 5:00 \n 
URL:https://pacificspringshoa.org/event/2026-pacific-springs-wine-tasting/
LOCATION:Pacific Springs Cellars\, 17919 Pierce Plaza\, Omaha\, NE\, United States
END:VEVENT
BEGIN:VEVENT
DTSTART;TZID=America/Chicago:20260328T140000
DTEND;TZID=America/Chicago:20260328T170000
DTSTAMP:20260423T150510
CREATED:20260322T221327Z
LAST-MODIFIED:20260322T221327Z
UID:4460-1774706400-1774717200@pacificspringshoa.org
SUMMARY:2026 Pacific Springs Egg Hunt
DESCRIPTION:Pacific Springs Neighborhood Egg Hunt \nThis event is for children and grandchildren of Pacific Springs residents. Don’t forget to bring your baskets to collect the eggs. \nSaturday\, March 28\, 2026 \n2:00 PM \nPacific Springs Park / 1024 S 174th Street
URL:https://pacificspringshoa.org/event/2026-pacific-springs-egg-hunt/
LOCATION:Pacific Springs Park\, 1024 S 174th Street\, Omaha\, NE\, 68118\, United States
END:VEVENT
BEGIN:VEVENT
DTSTART;TZID=America/Chicago:20250909T183000
DTEND;TZID=America/Chicago:20250909T203000
DTSTAMP:20260423T150510
CREATED:20250619T142631Z
LAST-MODIFIED:20250619T142631Z
UID:3153-1757442600-1757449800@pacificspringshoa.org
SUMMARY:2025 Pacific Springs Annual HOA Meeting
DESCRIPTION:2025 Pacific Springs Annual HOA Meeting \nTuesday\, September 9th @ 6:30 pm \nElkhorn Ridge Middle School / 17880 Marcy Street
URL:https://pacificspringshoa.org/event/2025-pacific-springs-annual-hoa-meeting/
LOCATION:Pacific Springs HOA Meeting\, 17880 Marcy Street\, Omaha\, NE\, 68118\, United States
END:VEVENT
BEGIN:VEVENT
DTSTART;TZID=America/Chicago:20250907T173000
DTEND;TZID=America/Chicago:20250907T193000
DTSTAMP:20260423T150510
CREATED:20250619T142055Z
LAST-MODIFIED:20250619T142055Z
UID:3144-1757266200-1757273400@pacificspringshoa.org
SUMMARY:2025 HOA Neighborhood Picnic
DESCRIPTION:Please join us for a Neighborhood Picnic.  Sunday\, September 7th from 5:30 – 7:30. \nPacific Springs Park Picnic Area / 1024 S 174th Street \nPacific Springs HOA 402-672-0233
URL:https://pacificspringshoa.org/event/2025-hoa-neighborhood-picnic/
LOCATION:Pacific Springs Park\, 1024 S 174th Street\, Omaha\, NE\, 68118\, United States
END:VEVENT
BEGIN:VEVENT
DTSTART;TZID=America/Chicago:20250621T090000
DTEND;TZID=America/Chicago:20250621T150000
DTSTAMP:20260423T150510
CREATED:20250507T200758Z
LAST-MODIFIED:20250507T200820Z
UID:2894-1750496400-1750518000@pacificspringshoa.org
SUMMARY:2025 Banyan Hills\, Spring Ridge & Merrifield Garage Sale
DESCRIPTION:The Banyan Hills Spring Ridge and Merrifield Village\, neighborhood garage sales are set for Friday\, June 20th & Saturday\, June 21st from 9 AM – 3 PM each day.
URL:https://pacificspringshoa.org/event/2025-banyan-hills-spring-ridge-merrifield-garage-sale/
LOCATION:NE
END:VEVENT
BEGIN:VEVENT
DTSTART;TZID=America/Chicago:20250620T090000
DTEND;TZID=America/Chicago:20250620T150000
DTSTAMP:20260423T150510
CREATED:20250507T201043Z
LAST-MODIFIED:20250507T201043Z
UID:2897-1750410000-1750431600@pacificspringshoa.org
SUMMARY:2025 Banyan Hills\, Spring Ridge & Merrifield Garage Sale
DESCRIPTION:The Banyan Hills Spring Ridge and Merrifield Village\, neighborhood garage sales are set for Friday\, June 20th & Saturday\, June 21st from 9 AM – 3 PM each day.
URL:https://pacificspringshoa.org/event/2025-banyan-hills-spring-ridge-merrifield-garage-sale-2/
LOCATION:NE
END:VEVENT
BEGIN:VEVENT
DTSTART;TZID=America/Chicago:20250607T140000
DTEND;TZID=America/Chicago:20250607T160000
DTSTAMP:20260423T150510
CREATED:20250520T182734Z
LAST-MODIFIED:20250520T182802Z
UID:2949-1749304800-1749312000@pacificspringshoa.org
SUMMARY:Pacific Springs Wine Tasting
DESCRIPTION:
URL:https://pacificspringshoa.org/event/wine-tasting/
LOCATION:Pacific Springs Cellars\, 17919 Pierce Plaza\, Omaha\, NE\, United States
END:VEVENT
BEGIN:VEVENT
DTSTART;TZID=America/Chicago:20250426T090000
DTEND;TZID=America/Chicago:20250426T140000
DTSTAMP:20260423T150510
CREATED:20250404T213135Z
LAST-MODIFIED:20250505T162720Z
UID:2725-1745658000-1745676000@pacificspringshoa.org
SUMMARY:2025 Omaha Spring Cleanup
DESCRIPTION:
URL:https://pacificspringshoa.org/event/2025-omaha-spring-cleanup/
LOCATION:Spring Ridge Elementary\, 17830 Shadow Ridge Drive
END:VEVENT
BEGIN:VEVENT
DTSTART;TZID=America/Chicago:20250412T140000
DTEND;TZID=America/Chicago:20250412T170000
DTSTAMP:20260423T150510
CREATED:20250319T202536Z
LAST-MODIFIED:20250505T162758Z
UID:2633-1744466400-1744477200@pacificspringshoa.org
SUMMARY:Pacific Springs EGG Hunt
DESCRIPTION:Pacific Springs Neighborhood Egg Hunt \nThis event is for children and grandchildren of Pacific Springs residents. Don’t forget to bring your baskets to collect the eggs. \nSaturday\, Apr 12 \n2:00 PM \nPacific Springs Park / 1024 S 174th Street
URL:https://pacificspringshoa.org/event/pacific-springs-egg-hunt/
LOCATION:NE
END:VEVENT
BEGIN:VEVENT
DTSTART;TZID=America/Chicago:20240910T183000
DTEND;TZID=America/Chicago:20240910T200000
DTSTAMP:20260423T150510
CREATED:20240414T070614Z
LAST-MODIFIED:20250505T162832Z
UID:480-1725993000-1725998400@pacificspringshoa.org
SUMMARY:Annual Meeting
DESCRIPTION:Date:  Tuesday\, September 10\, 2024: Check-in Time 6:30 PM \nLocation:  Elkhorn Ridge Middle School Cafeteria \nMeeting will start once a quorum is present \n 
URL:https://pacificspringshoa.org/event/annual-meeting/
LOCATION:NE
END:VEVENT
BEGIN:VEVENT
DTSTART;TZID=America/Chicago:20240908T170000
DTEND;TZID=America/Chicago:20240908T193000
DTSTAMP:20260423T150510
CREATED:20240414T065637Z
LAST-MODIFIED:20250505T163329Z
UID:477-1725814800-1725823800@pacificspringshoa.org
SUMMARY:Annual Neighborhood Picnic
DESCRIPTION:Annual Neighborhood Picnic at the Pacific Springs Park \n 
URL:https://pacificspringshoa.org/event/annual-neighborhood-picnic/
LOCATION:NE
END:VEVENT
BEGIN:VEVENT
DTSTART;VALUE=DATE:20240613
DTEND;VALUE=DATE:20240616
DTSTAMP:20260423T150510
CREATED:20240412T002459Z
LAST-MODIFIED:20250505T163339Z
UID:468-1718236800-1718495999@pacificspringshoa.org
SUMMARY:Neighborhood Garage Sale
DESCRIPTION:The HOA is sponsoring a neighborhood garage sale Thursday June 13 ~ Saturday June 15.  Please email PSHOA@cox.net if you have any questions. \n 
URL:https://pacificspringshoa.org/event/neighborhood-garage-sale/
LOCATION:NE
END:VEVENT
BEGIN:VEVENT
DTSTART;TZID=America/Chicago:20240518T090000
DTEND;TZID=America/Chicago:20240518T140000
DTSTAMP:20260423T150510
CREATED:20240412T013749Z
LAST-MODIFIED:20250505T163348Z
UID:472-1716022800-1716040800@pacificspringshoa.org
SUMMARY:Omaha Spring Cleanup
DESCRIPTION:Pacific Springs & Banyan Hill HOA’s will be hosting the Omaha Spring Cleanup event on May 18th\, 2024 from 9:00 am – 2:00 pm at Spring Ridge Elementary School.  17830 Shadow Ridge Drive.  Questions?  Call 402-444-4636 or visit cleanup.wasteline.org or email cleanupomaha@cityofomaha.org
URL:https://pacificspringshoa.org/event/omaha-spring-cleanup/
LOCATION:NE
END:VEVENT
BEGIN:VEVENT
DTSTART;TZID=America/Chicago:20240427T150000
DTEND;TZID=America/Chicago:20240427T170000
DTSTAMP:20260423T150510
CREATED:20240411T200051Z
LAST-MODIFIED:20250505T163357Z
UID:451-1714230000-1714237200@pacificspringshoa.org
SUMMARY:Pacific Springs Spring Social--Wine Tasting
DESCRIPTION:You are cordially invited to a Pacific Springs Homeowners Association Wine Tasting Event. \nWHEN:  Saturday April 27th 3:00-5:00 pm \nWHERE:  PACIFIC SPRINGS CELLARS \n17919 Pierce Plaza. Omaha NE ( 180th & Pacific) \n  \n  \n 
URL:https://pacificspringshoa.org/event/pacific-springs-spring-social-wine-tasting/
LOCATION:Pacific Springs Cellars\, 17919 Pierce Plaza\, Omaha\, NE\, United States
END:VEVENT
END:VCALENDAR